BEGIN:VCALENDAR
PRODID:-//AT Content Types//AT Event//EN
VERSION:2.0
METHOD:PUBLISH
BEGIN:VEVENT
DTSTAMP:20260423T130841Z
CREATED:20241126T121446Z
UID:ATEvent-8f9377cb0ae14573bfbcde74d6332a6d
LAST-MODIFIED:20241126T121530Z
SUMMARY:Have Your Say - The new HES Corporate Plan
DTSTART:20241210T140000Z
DTEND:20241210T153000Z
DESCRIPTION:We're consulting on a new Corporate Plan for Historic Envi
 ronment Scotland. Come along to one of our workshops to have your say 
 on the consultation draft.\n\nhttps://www.eventbrite.com/e/have-your-s
 ay-the-new-hes-corporate-plan-tickets-1086994603119?aff=odcleoeventsin
 collection&keep_tld=1
CLASS:PUBLIC
END:VEVENT
END:VCALENDAR
